BEGIN:VCALENDAR
VERSION:2.0
PRODID:-//NCIM - National Centre for Integrative Medicine - ECPv6.15.20//NONSGML v1.0//EN
CALSCALE:GREGORIAN
METHOD:PUBLISH
X-ORIGINAL-URL:https://ncim.org.uk
X-WR-CALDESC:Events for NCIM - National Centre for Integrative Medicine
REFRESH-INTERVAL;VALUE=DURATION:PT1H
X-Robots-Tag:noindex
X-PUBLISHED-TTL:PT1H
BEGIN:VTIMEZONE
TZID:Europe/London
BEGIN:DAYLIGHT
TZOFFSETFROM:+0000
TZOFFSETTO:+0100
TZNAME:BST
DTSTART:20250330T010000
END:DAYLIGHT
BEGIN:STANDARD
TZOFFSETFROM:+0100
TZOFFSETTO:+0000
TZNAME:GMT
DTSTART:20251026T010000
END:STANDARD
BEGIN:DAYLIGHT
TZOFFSETFROM:+0000
TZOFFSETTO:+0100
TZNAME:BST
DTSTART:20260329T010000
END:DAYLIGHT
BEGIN:STANDARD
TZOFFSETFROM:+0100
TZOFFSETTO:+0000
TZNAME:GMT
DTSTART:20261025T010000
END:STANDARD
BEGIN:DAYLIGHT
TZOFFSETFROM:+0000
TZOFFSETTO:+0100
TZNAME:BST
DTSTART:20270328T010000
END:DAYLIGHT
BEGIN:STANDARD
TZOFFSETFROM:+0100
TZOFFSETTO:+0000
TZNAME:GMT
DTSTART:20271031T010000
END:STANDARD
END:VTIMEZONE
BEGIN:VEVENT
DTSTART;TZID=Europe/London:20260213T100000
DTEND;TZID=Europe/London:20260213T170000
DTSTAMP:20260419T185743
CREATED:20250714T113100Z
LAST-MODIFIED:20260210T153644Z
UID:43722-1770976800-1771002000@ncim.org.uk
SUMMARY:NCIM Conference: Health Coaching in the NHS: The Evidence\, the Opportunity\, the Future
DESCRIPTION:A one day online conference\nHealth Coaching in the NHS: The Evidence\, The Opportunity\, The Future\nDiscover how health coaching is transforming primary care\, cancer support and social prescribing\, with the research and real-world strategies to bring it into your practice.\n			\n			\n				\n				\n				\n				\n			\n				\n				\n				\n				\n				\n				\n				REGISTER NOW\n			\n			\n				\n				\n				\n				\n			\n				\n				\n				\n				\n				\n				\n				\n				\n				\n				\n				Friday 13 February 2026 | 10am-5pm GMT | Live Online + Recording\n6 Expert Speakers | 7 CPD Hours | NHS Case Studies | Live Panel Q&A\nTickets: £60 | Member Price £40 | \n			\n			\n				\n				\n				\n				\n			\n				\n				\n				\n				\n				\n				\n			\n				\n				\n				\n				\n			\n				\n				\n				\n				\n				\n				\n			\n				\n				\n				\n				\n				\n				\n				\n				\n				\n				Medical students please email education@ncim.org.uk for a £25 student ticket. \nBecome a member of the NCIM Membership for just £4.99 a month and receive exclusive content\, plus discount to this and all our conferences. \nCan’t attend live? Purchase includes full recording access. \n			\n			\n				\n				\n				\n				\n			\n				\n				\n				\n				\n				\n				\n				BOOK MY TICKET NOW\n			\n			\n				\n				\n				\n				\n			\n				\n				\n				\n				\n				\n				\n			\n				\n				\n				\n				\n			\n				\n				\n				\n				\n				\n				\n				\n				\n				\n				\n				The Healthcare Landscape is Changing\nThe NHS is under unprecedented pressure. Patient demand is rising\, GP appointments are overwhelmed\, and chronic disease continues to climb. Meanwhile\, a quiet revolution is happening: health coaching is proving to be one of the most effective interventions for sustainable behaviour change and preventative care. \nThis isn’t about replacing medical care\, it’s about enhancing it. From cancer support to primary care consultations and social prescribing initiatives\, health coaching is bridging the gap between medical advice and meaningful lifestyle change. \nThis conference brings together the evidence\, the pioneers\, and the practical strategies you need to understand and implement health coaching\, whether you’re already a coach\, a healthcare professional considering it\, or someone who wants to bring coaching into your organisation. \nWhat You’ll Take Away\n📊 Evidence-Based Insights The latest research on health coaching effectiveness in cancer care\, primary care settings\, and population health\, so you can make the case to colleagues\, senior leadership\, or clients. \n🏥 Real NHS Implementation Strategies Learn from practitioners already integrating health coaching into NHS primary care and social prescribing. Discover what works\, what doesn’t\, and how to navigate the system. \n💡 Practical Tools & Frameworks Walk away with coaching techniques\, conversation frameworks\, and assessment tools you can use immediately\, whether with patients\, clients\, or in your own practice. \n🤝 Expert Access Live Q&A with 6 leading figures in health coaching and integrative medicine\, plus connection opportunities with fellow healthcare professionals and coaches. \n📜 Professional Development Earn 7 hours of CPD certification while staying at the cutting edge of preventative healthcare. \n🎬 Recording Access Can’t make it live? Watch on demand at your convenience and revisit sessions when you need them. \n			\n			\n				\n				\n				\n				\n				\n			\n				\n				\n				\n				\n			\n				\n				\n				\n				\n				\n				\n				\n				\n				\n				\n				Conference Programme - Your Day at a Glance\n			\n			\n				\n				\n				\n				\n			\n				\n				\n				\n				\n				\n				\n			\n				\n				\n				\n				\n			\n				\n				\n				\n				\n				\n				\n				\n				\n				\n				\n				10:00–10:15 | Welcome & Opening: Setting the stage for why health coaching matters in today’s healthcare landscape. \nDr Elizabeth Thompson \, CEO & Founder\, NCIM  \n10:15 – 11:00 | A Changing Landscape for Health Coaching: Integration\, Innovation and Impact: Discover how health coaching is evolving\, the professionalisation of the field\, and where the opportunities lie for practitioners in 2026 and beyond. \nIzabella Natrins\, CEO UK & International Health Coaching Association | Registered Health Coach \n11:00–11:30 | Break \n11:30–12:15 | Making the Case for Health Coaching in Cancer: Powerful New Evidence: Groundbreaking research shows health coaching significantly improves outcomes for cancer patients. Learn the evidence base and how health coaching is implemented in oncology settings. \nDr Rosy Daniel\, Integrative Medicine Consultant & Cancer Health Coach Trainer \n12:15–13:00 | Health Coaching & Social Prescribing: Activating the Synergy: Explore how health coaching amplifies social prescribing initiatives and creates powerful community-based health interventions. \nWill Shipp\, Social Prescribing Lead & Integrative Health Coach \n13:00–14:00 | Lunch Break \n14:00–14:45 | Health Coaching in the NHS: From the frontlines: how to successfully integrate health coaching into NHS primary care\, overcome barriers\, and build sustainable models. \nDr Caroline Gibson – GP\, Lifestyle Medicine Physician\, Health Coach & Coaching Supervisor \n14:45–15:30 | Health & Wellbeing Coaching in Primary Care: Practical case studies and strategies for embedding coaching conversations into primary care consultations and wellness programmes. \nSaba James\, Health & Wellbeing Lead\, Health Coach & Nutritional Therapist \n15:30–16:00 | Break \n16:00–17:00 | Panel Discussion: How Could Health Coaching Evolve a Model of Preventative Medicine? Join our expert panel for an interactive discussion on the future of health coaching in the NHS\, answering your questions and exploring what’s next for preventative healthcare. \nAll Speakers \n17:00 | Conference Close \n			\n			\n				\n				\n				\n				\n			\n				\n				\n				\n				\n				\n				\n				REGISTER NOW\n			\n			\n				\n				\n				\n				\n			\n				\n				\n				\n				\n				\n				\n			\n				\n				\n				\n				\n			\n				\n				\n				\n				\n				\n				\n				\n				\n				\n				\n				Meet Your Expert Speakers\n			\n			\n				\n				\n				\n				\n			\n				\n				\n				\n				\n				\n				\n				\n				\n				\n				\n				 \n				\n					Dr Elizabeth Thompson\n					CEO & Founder\, NCIM \n					\n					\n				\n			\n			\n				\n				\n				\n				\n				\n				\n				\n				\n				\n				 \n				\n					Izabella Natrins\n					CEO UK & International Health Coaching Association / Registered Health Coach \n					\n					\n				\n			\n			\n				\n				\n				\n				\n				\n				\n				\n				\n				\n				\n				\n					Dr Rosy Daniel\n					Integrative Medicine Consultant\, Specialist Cancer Health Coach Trainer \n					\n					\n				\n			\n			\n				\n				\n				\n				\n			\n				\n				\n				\n				\n				\n				\n				\n				\n				\n				\n				 \n				\n					Will Shipp\n					Social Prescribing Lead and Integrative Health Coach \n					\n					\n				\n			\n			\n				\n				\n				\n				\n				\n				\n				\n				\n				\n				 \n				\n					Dr Caroline Gibson\n					GP\, Lifestyle Medicine Physician\, Health Coach & Coaching Supervisor \n					\n					\n				\n			\n			\n				\n				\n				\n				\n				\n				\n				\n				\n				\n				 \n				\n					Saba James\n					Health Coach & Nutritional Therapist \n					\n					\n				\n			\n			\n				\n				\n				\n				\n			\n				\n				\n				\n				\n				\n				\n				BOOK MY TICKET NOW\n			\n			\n				\n				\n				\n				\n			\n				\n				\n				\n				\n				\n				\n			\n				\n				\n				\n				\n			\n				\n				\n				\n				\n				\n				\n				\n				\n				\n				\n				FAQs\n			\n			\n				\n				\n				\n				\n			\n				\n				\n				\n				\n				\n				\n				\n				\n				\n				\n				\n				\n				\n				\n				\n				What if I can't attend live on 13 February?\n				No problem! Your ticket includes lifetime access to the full conference recording. You can watch at your convenience and revisit sessions anytime. \n			\n				\n				\n				\n				\n				How will the conference be delivered?\n				Via Zoom. You’ll receive the link and meeting details in your confirmation email and reminder emails before the event. \n			\n				\n				\n				\n				\n				Will I receive CPD certification?\n				Yes! Just email education@ncim.org.uk after the event to request your CPD certificate. \n			\n				\n				\n				\n				\n				Is this a training to become a health coach?\n				No\, this is an educational conference about health coaching in healthcare settings. It’s designed to deepen understanding\, share evidence\, and explore implementation\, not to train you as a coach. \n			\n				\n				\n				\n				\n				What's included in the NCIM membership?\n				NCIM membership (£4.99/month) gives you discounted access to all conferences\, exclusive educational content\, and community resources. Learn more. \n			\n				\n				\n				\n				\n				Do you offer group discounts?\n				Yes! Contact us at education@ncim.org.uk for group booking rates if you’re bringing 5 or more people. \n			\n				\n				\n				\n				\n				I'm not a healthcare professional. Can I still attend?\n				Absolutely! This conference is valuable for anyone interested in health coaching\, preventative medicine\, and integrative healthcare. \n			\n				\n				\n				\n				\n				How do I access the recording after the event?\n				You’ll receive an email with the recording link the week after the conference. Access is available for 3 months. \n			\n			\n			\n				\n				\n				\n				\n			\n				\n				\n				\n				\n				\n				\n			\n				\n				\n				\n				\n			\n				\n				\n				\n				\n				\n				\n				\n				\n				\n				\n				Secure Your Place\n \nJoin healthcare professionals and coaches from across the UK for a day of evidence\, innovation\, and practical strategies that could transform how you approach patient care.\n			\n			\n				\n				\n				\n				\n			\n				\n				\n				\n				\n				\n				\n				BOOK MY TICKET NOW\n			\n			\n				\n				\n				\n				\n			\n				\n				\n				\n				\n				\n				\n			\n				\n				\n				\n				\n			\n				\n				\n				\n				\n				\n				\n				\n				\n				\n				\n				Thank you to our sponsors for supporting this event
URL:https://ncim.org.uk/event/health-coaching-empowering-change
LOCATION:Online
CATEGORIES:Conference,Education Event,Wellbeing Event
ATTACH;FMTTYPE=image/png:https://ncim.org.uk/wp-content/uploads/2025/07/Matcha-tea-7.png
END:VEVENT
BEGIN:VEVENT
DTSTART;TZID=Europe/London:20260225T180000
DTEND;TZID=Europe/London:20260225T190000
DTSTAMP:20260419T185743
CREATED:20251031T091130Z
LAST-MODIFIED:20260203T143008Z
UID:44532-1772042400-1772046000@ncim.org.uk
SUMMARY:FREE Webinar: What is Integrative Medicine & Integrative Oncology?
DESCRIPTION:What is Integrative Medicine & Integrative Oncology?\nFREE NCIM Webinar\n			\n			\n				\n				\n				\n				\n			\n				\n				\n				\n				\n				\n				\n			\n				\n				\n				\n				\n			\n				\n				\n				\n				\n				\n				\n			\n				\n				\n				\n				\n				\n				\n				\n				\n				\n				Wednesday 25 February 2026\n6 – 7pm\nLive online\, recording available in the NCIM Membership\n			\n				\n				\n				\n				\n				Join Dr Elizabeth Thompson and her clinical colleagues for this webinar exploring the foundations and practice of Integrative Medicine and its application in cancer care. This session brings together the best of conventional and complementary healthcare to support whole-person wellbeing. \nIn the first part of the webinar\, Dr Elizabeth Thompson will discuss what Integrative Medicine really means\, how it addresses the physical\, emotional\, and spiritual dimensions of health\, and how it empowers patients to take an active role in their own healing journey. \nThe second part of the webinar will focus specifically on Integrative Oncology\, where Dr Emi Maruo and Dr Simon Lieshout will explore evidence-based integrative approaches in cancer care\, including medical homeopathy and mistletoe therapy. Drawing on NCIM’s years of clinical experience and leadership in the field\, this session will demonstrate how integrative approaches are being applied to support people affected by cancer. \nThis webinar is ideal for anyone curious about Integrative Medicine and how it is being used in clinical settings\, particularly for those interested in holistic approaches to cancer care. \n  \n			\n				Register here\n			\n			\n				\n				\n				\n				\n			\n				\n				\n				\n				\n				\n				\n			\n				\n				\n				\n				\n			\n				\n				\n				\n				\n				\n				\n				\n				\n				\n				\n				About the Speakers\n			\n			\n				\n				\n				\n				\n			\n				\n				\n				\n				\n				\n				\n				\n				\n				\n				\n				 \n				\n					Dr Elizabeth Thompson\n					Integrative Medicine Doctor\, CEO of NCIM \n					\n					\n				\n			\n			\n				\n				\n				\n				\n				\n				\n				\n				\n				\n				 \n				\n					Dr Emi Maruo\n					Integrative Medicine Doctor \n					\n					\n				\n			\n			\n				\n				\n				\n				\n				\n				\n				\n				\n				\n				 \n				\n					Dr Simon Lieshout\n					Integrative Medicine Doctor \n					\n					\n				\n			\n			\n				\n				\n				\n				\n			\n				\n				\n				\n				\n				\n				\n			\n				\n				\n				\n				\n			\n				\n				\n				\n				\n				\n				\n				\n				\n				\n				\n				You’ll receive the Zoom link by email the day before the webinar.\nYou can still register on the day of the webinar\, however registrations made after 5pm may not be processed in time.   \nThe webinar is recorded and uploaded to our NCIM Membership site within one week.
URL:https://ncim.org.uk/event/webinar-what-is-integrative-medicine
LOCATION:Bristol
CATEGORIES:Education Event,Free Monthly Webinar,Wellbeing Event
ATTACH;FMTTYPE=image/png:https://ncim.org.uk/wp-content/uploads/2025/10/Functional-medicine.png
END:VEVENT
END:VCALENDAR