BEGIN:VCALENDAR
VERSION:2.0
PRODID:-//NCIM - National Centre for Integrative Medicine - ECPv6.15.20//NONSGML v1.0//EN
CALSCALE:GREGORIAN
METHOD:PUBLISH
X-WR-CALNAME:NCIM - National Centre for Integrative Medicine
X-ORIGINAL-URL:https://ncim.org.uk
X-WR-CALDESC:Events for NCIM - National Centre for Integrative Medicine
REFRESH-INTERVAL;VALUE=DURATION:PT1H
X-Robots-Tag:noindex
X-PUBLISHED-TTL:PT1H
BEGIN:VTIMEZONE
TZID:Europe/London
BEGIN:DAYLIGHT
TZOFFSETFROM:+0000
TZOFFSETTO:+0100
TZNAME:BST
DTSTART:20250330T010000
END:DAYLIGHT
BEGIN:STANDARD
TZOFFSETFROM:+0100
TZOFFSETTO:+0000
TZNAME:GMT
DTSTART:20251026T010000
END:STANDARD
BEGIN:DAYLIGHT
TZOFFSETFROM:+0000
TZOFFSETTO:+0100
TZNAME:BST
DTSTART:20260329T010000
END:DAYLIGHT
BEGIN:STANDARD
TZOFFSETFROM:+0100
TZOFFSETTO:+0000
TZNAME:GMT
DTSTART:20261025T010000
END:STANDARD
BEGIN:DAYLIGHT
TZOFFSETFROM:+0000
TZOFFSETTO:+0100
TZNAME:BST
DTSTART:20270328T010000
END:DAYLIGHT
BEGIN:STANDARD
TZOFFSETFROM:+0100
TZOFFSETTO:+0000
TZNAME:GMT
DTSTART:20271031T010000
END:STANDARD
END:VTIMEZONE
BEGIN:VEVENT
DTSTART;TZID=Europe/London:20261008T093000
DTEND;TZID=Europe/London:20261008T170000
DTSTAMP:20260420T090345
CREATED:20260116T115335Z
LAST-MODIFIED:20260420T073903Z
UID:45310-1791451800-1791478800@ncim.org.uk
SUMMARY:William Kadleigh Masterclass Series: Homeopathy in Oncology Symptom Support
DESCRIPTION:William Kadleigh 2 Day Masterclass Series (Homeopathy)\nHomeopathy in Oncology Symptom Support\n\nJoin Dr Jean-Lionel Bagot for two homeopathy masterclasses in 2026\n			\n			\n				\n				\n				\n				\n			\n				\n				\n				\n				\n				\n				\n				\n				\n				\n				\n				14 May & 08 October 2026 | 9.30am-5pm GMT | In-person or online\nTickets for attending both days:\nIn-person including lunch £250 \nOnline £150 \nNCIM Members: In-person £180 or online £100\nTickets for attending one day:\nIn-person including lunch £125 (8 Oct only – early bird £100 – book before 31 July)\nOnline £75 (8 Oct only – early bird £60 – book before 31 July)\nNCIM Members: In-person £90 or online £50\n			\n			\n				\n				\n				\n				\n			\n				\n				\n				\n				\n				\n				\n				REGISTER NOW\n			\n			\n				\n				\n				\n				\n			\n				\n				\n				\n				\n				\n				\n				\n				\n				\n				\n				Integrative Homeopathic Supportive Care in Oncology: \nFoundations and Clinical Principles \n			\n			\n				\n				\n				\n				\n			\n				\n				\n				\n				\n				\n				\n				\n				\n				\n				\n				\n				\n			\n			\n				\n				\n				\n				\n				\n				\n				\n				\n				\n				As healthcare professionals involved in oncology\, we all face the same challenge: how to better support our patients beyond tumour control\, addressing symptoms\, quality of life\, and overall well-being throughout the cancer journey. \nOver the past two decades\, supportive care has become a central component of oncology. At the same time\, integrative oncology has progressively emerged\, aiming to combine conventional cancer treatments with evidence-informed complementary approaches in a safe and patient-centred way. Within this context\, homeopathy is used in several countries as part of supportive care\, particularly to address treatment-related symptoms\, enhance patient resilience\, and take into account individual responses to cancer therapies. \nHowever\, the role of homeopathy remains debated\, and its place is not yet clearly defined within international oncology guidelines. This raises important clinical questions: how can homeopathy be integrated into oncology care in a way that is safe\, coherent\, efficient\, and meaningful for patients? \n			\n			\n				\n				\n				\n				\n			\n				\n				\n				\n				\n				\n				\n				\n				\n				\n				\n				The aim of this session is not to oppose different medical approaches\, but rather to explore how homeopathy may contribute to integrative oncology supportive care in a pragmatic and clinically relevant way. \nWe will begin by reviewing the principles underlying homeopathic supportive care in oncology\, then explore the types of clinical situations in which it may be used\, and finally discuss its potential role within an integrative model of care. This session will serve as a foundation for the more clinically oriented and interactive sessions that will follow in October. \nPatients living with cancer need comprehensive care\, as well as attentive listening\, and a personalised approach to their experience. In this context\, homeopathy can be considered as one of the components\, with no known drug interactions and no significant side effects\, contributing to their overall health and well-being. \n			\n			\n				\n				\n				\n				\n			\n				\n				\n				\n				\n				\n				\n				REGISTER NOW\n			\n				\n				\n				\n				\n				Bursaries Available\n			\n			\n				\n				\n				\n				\n			\n				\n				\n				\n				\n				\n				\n				\n				\n				\n				\n				   \n			\n			\n				\n				\n				\n				\n			\n				\n				\n				\n				\n				\n				\n				\n				\n				\n				\n				\nNCIM is delighted to announce a generous bursary scheme that has been kindly funded by the UK-based charity\, The Scottish Homeopathic Research and Education Trust (SHRET). This scheme offers financial support to colleagues who would like to attend the NCIM Masterclass Homeopathy in Oncology Symptom Support Masterclass. \nThe sum of £60 will be awarded to attend in person only at the NCIM Masterclass Homeopathy in Oncology Symptom Support Masterclass and are not transferable to other events.  \nBursary applications will close 6 weeks before the event date (1 September for the October Masterclass). Trustees will consider all applications and applicants will receive a response within two weeks of the deadline. \n\n			\n			\n				\n				\n				\n				\n				\n				\n				\n				\n				\n				\nApplicants must apply directly to secretary@shretcharity.org stating the following \n\n1. Your name \n2. General Location \n3. The date you would like to attend the Masterclass in-person  (8 October 2026) \n4. Why you want to take the Masterclass \n5. How you will use Homeopathy in your practice \n\n			\n			\n				\n				\n				\n				\n			\n				\n				\n				\n				\n				\n				\n				\n				\n				\n				\n				 \nDonate to SHRET \n			\n			\n				\n				\n				\n				\n			\n				\n				\n				\n				\n				\n				\n			\n				\n				\n				\n				\n			\n				\n				\n				\n				\n				\n				\n			\n				\n				\n				\n				\n				\n				\n				\n				\n				\n				Who should attend\n\nHomeopthy practitioners\nHomeopathy students\nHealthcare professionals working with cancer patients\n\n  \n  \n			\n			\n				\n				\n				\n				\n			\n				\n				\n				\n				\n				\n				\n				BOOK MY TICKET NOW\n			\n			\n				\n				\n				\n				\n			\n				\n				\n				\n				\n				\n				\n				\n				\n				\n				\n				About the masterclass\nDr Jean-Lionel Bagot is a leading clinician in the use of homeopathy to support symptom management in people affected by cancer and cancer treatments. His best-selling book\, Cancer and Homeopathy\, is widely regarded as a valuable resource within integrative oncology and is used by clinicians internationally to support patient care. \nHomeopathy uses low-dose\, activated natural substances that can be safely combined with conventional cancer treatments\, making it a useful supportive approach for addressing treatment-related symptoms and improving quality of life. \nIn 2026\, Dr Bagot will deliver two in-depth clinical teaching days with NCIM. These sessions will offer a practical\, patient-centred exploration of symptom management\, with time dedicated to understanding complex conditions such as peripheral neuropathy and how best to support recovery in clinical practice. \nYou may attend either day as a standalone option or join both days for a more comprehensive learning experience. Recordings will be available for participants who are unable to attend all sessions live. \n			\n			\n				\n				\n				\n				\n			\n				\n				\n				\n				\n				\n				\n			\n				\n				\n				\n				\n			\n				\n				\n				\n				\n				\n				\n				\n				\n				\n				\n				Dr Jean-Lionel Bagot\nHead of the Department of Integrative Health\, France \nDr Jean-Lionel Bagot is a medical doctor and internationally recognised leader in integrative oncology\, with a particular focus on homeopathic supportive care. With more than 30 years of clinical experience\, he has worked extensively within the oncology department in Strasbourg\, France\, alongside running a private practice dedicated to supporting people living with cancer. \nEarly in his career\, Dr Bagot chose to specialise in homeopathy\, drawn to its safety\, clinical usefulness\, and compatibility with conventional cancer treatments. His work has centred on improving quality of life and managing treatment-related side effects as part of a truly integrative approach to cancer care. \nFor over two decades\, Dr Bagot has taught homeopathy at the Faculty of Medicine and Pharmacy in Strasbourg. He is the founder and president of the International Homeopathic Society for Supportive Care in Oncology (SHISSO)\, established in 2016\, and currently acts as coordinating physician for the Integrative Care Outpatients Department at the Saint Vincent Hospital Group. \nDr Bagot is the author of Cancer and Homeopathy\, regarded as a landmark practical guide for both patients and healthcare professionals. The book addresses the homeopathic management of common chemotherapy-related symptoms\, including nausea\, neurological symptoms\, headaches\, and blood disorders. \nAlongside his clinical and teaching roles\, Dr Bagot is an active researcher\, with 65 peer-reviewed publications and an established academic profile. He serves on the scientific board of the French Society of Integrative Oncology (SFOI) and is an associate member of the University College of Integrative and Complementary Medicine (CUMIC). \nHe holds postgraduate qualifications in oncological practice\, clinical oncology\, and medical education from leading French universities. \n			\n			\n				\n				\n				\n				\n				\n				\n				\n				\n				\n				 \n			\n			\n				\n				\n				\n				\n			\n				\n				\n				\n				\n				\n				\n				\n				\n				\n				\n				\n				\n				\n				\n				\n				\n				William Kadleigh Memorial Fund \n  \nAfter Dr William Kadleigh’s tragic death\, the William Kadleigh Memorial Fund was set up by his parents 50 years ago in order to help young Doctors to study Homeopathy. This fund has now been extended to create a lasting legacy for William (“Bill”) by supporting the NCIM William Kadleigh Masterclass Series\, as well as the biennial William Kadleigh Memorial Lecture at the Faculty of Homeopathy Congress. \nRead more about William Kadleigh here \n			\n			\n				BOOK MY TICKET NOW
URL:https://ncim.org.uk/event/homeopathy-in-oncology-symptom-support-2
LOCATION:Ham Green House\, Chapel Pill Lane\, Pill\, Bristol\, BS20 0HH\, United Kingdom
CATEGORIES:Education Event,Homeopathy event
ATTACH;FMTTYPE=image/png:https://ncim.org.uk/wp-content/uploads/2026/01/Jean-Lionel-Bagot-Event-image-7.png
END:VEVENT
BEGIN:VEVENT
DTSTART;TZID=Europe/London:20261009T100000
DTEND;TZID=Europe/London:20261009T170000
DTSTAMP:20260420T090346
CREATED:20251216T121648Z
LAST-MODIFIED:20260407T140801Z
UID:45070-1791540000-1791565200@ncim.org.uk
SUMMARY:NCIM Conference: Oncology Symptom Support: Advancing Care Across the Cancer Journey
DESCRIPTION:Oncology Symptom Support:\nAdvancing Care Across the Cancer Journey\nA one-day hybrid NCIM Conference\n			\n			\n				\n				\n				\n				\n			\n				\n				\n				\n				\n				\n				\n			\n				\n				\n				\n				\n			\n				\n				\n				\n				\n				\n				\n			\n				\n				\n				\n				\n				\n				\n				\n				\n				\n				Date & Time:\nFriday 09 October 2026\n10am – 5pm\nWhere: In-person and online\nIn-person tickets (includes refreshments\, lunch & networking drinks): £120 (early-bird £87 until 31 July 2026)\nLive online/recording: £60 (early-bird £54 until 31 July 2026)\nMembers in-person ticket £70 or online ticket £40\n			\n				\n				\n				\n				\n				Become a member of the NCIM Membership for just £4.99 a month and receive exclusive content\, plus discount to this and all our conferences. \nMedical students please email education@ncim.org.uk for a £25 student ticket. \nNB: If you are unable to attend live on the day\, you can purchase the recording at checkout. \n			\n			\n				\n				\n				\n				\n			\n				\n				\n				\n				\n				\n				\n				BOOK MY TICKET NOW\n			\n			\n				\n				\n				\n				\n			\n				\n				\n				\n				\n				\n				\n				\n				\n				\n				\n				Symptom Support is Central to Quality Cancer Care \nEffective symptom management can transform the cancer experience. As treatments advance and survival rates improve\, the focus is shifting: how do we help patients not just live longer\, but live better? Evidence shows that proactive\, integrative symptom support can improve treatment tolerance\, quality of life\, and potentially outcomes. \nThis isn’t about replacing oncology standards. It’s about enhancing them. From managing treatment side effects to addressing pain\, fatigue\, and psychological distress\, evidence-based symptom support is becoming essential to comprehensive cancer care at every stage of the journey. \nThis conference brings together the latest research\, clinical insights\, and practical frameworks you need to advance symptom support in your practice. Whether you’re an oncologist\, specialist nurse\, allied health professional\, or anyone working in cancer care\, join us to explore how science\, prevention\, and compassionate approaches can improve patient experiences from diagnosis through survivorship. \nWhat You’ll Take Away\n📊 Evidence-Based Insights The latest research on health coaching effectiveness in cancer care\, primary care settings\, and population health\, so you can make the case to colleagues\, senior leadership\, or clients. \n🏥 Real NHS Implementation Strategies Learn from practitioners already integrating health coaching into NHS primary care and social prescribing. Discover what works\, what doesn’t\, and how to navigate the system. \n💡 Practical Tools & Frameworks Walk away with coaching techniques\, conversation frameworks\, and assessment tools you can use immediately\, whether with patients\, clients\, or in your own practice. \n🤝 Expert Access Live Q&A with 6 leading figures in health coaching and integrative medicine\, plus connection opportunities with fellow healthcare professionals and coaches. \n📜 Professional Development Earn 7 hours of CPD certification while staying at the cutting edge of preventative healthcare. \n🎬 Recording Access Can’t make it live? Watch on demand at your convenience and revisit sessions when you need them. \n			\n			\n				\n				\n				\n				\n				\n			\n				\n				\n				\n				\n			\n				\n				\n				\n				\n				\n				\n			\n				\n				\n				\n				\n			\n				\n				\n				\n				\n				\n				\n				\n				\n				\n				\n				 \n			\n			\n				\n				\n				\n				\n				\n				\n				\n				\n				\n				\n					\n					\n						\n						Where will the conference take place?\nJoin us for an inspiring in-person conference at the stunning Ham Green House in Pill\, nestled in peaceful countryside just outside Bristol. \nEasily accessible by bus from Bristol and with free on-site parking\, getting here is hassle-free. \nEnjoy a day of learning and connection with a delicious lunch\, nourishing snacks\, and refreshing drinks—all included to keep you energised throughout the event! \n					\n				\n			\n			\n				\n				\n				\n				\n			\n				\n				\n				\n				\n				\n				\n				\n				\n				\n				\n				 \n			\n			\n				\n				\n				\n				\n				\n				\n				\n				\n				\n				 \n			\n			\n				\n				\n				\n				\n				\n				\n				\n				\n				\n				 \n			\n			\n				\n				\n				\n				\n			\n				\n				\n				\n				\n				\n				\n				\n				\n				\n				\n				 \n			\n			\n				\n				\n				\n				\n				\n				\n				\n				\n				\n				 \n			\n			\n				\n				\n				\n				\n				\n				\n				\n				\n				\n				 \n			\n			\n				\n				\n				\n				\n			\n				\n				\n				\n				\n				\n				\n			\n				\n				\n				\n				\n			\n				\n				\n				\n				\n				\n				\n				\n				\n				\n				\n				Thank you to our sponsors for supporting this event\n			\n			\n				\n				\n				\n				\n			\n				\n				\n				\n				\n				\n				\n				\n				\n				\n				\n				 \n			\n			\n				\n				\n				\n				\n				\n				\n				\n				\n				\n				 \n			\n			\n				\n				\n				\n				\n				\n			\n				\n				\n				\n				\n				\n			\n				\n				\n				\n				\n			\n				\n				\n				\n				\n				\n				\n				\n				\n				\n				\n				\n\n\n\nTIME \n\n\nCONTENT \n\n\nSPEAKER \n\n\n\n\n10.00 – 10.15 \n\n\nWelcome Address \n\n\nDr Elizabeth Thompson \nCEO & Founder NCIM Integrative Medicine Doctor \n\n\n\n\n10.15 – 11.15 \n\n\nMedicinal mushrooms across the cancer journey  \n\n\nCatalina Fernadez de Ana Portela  \nFounder Hifas da Terra  \n\n\n\n\n11.15 – 11.45 \n\n\nBREAK \n\n\n\n\n\n11.45 – 12.30 \n\n\nAromatic Tools for Symptom Support in Oncology Care \n\n\nRhiannon Lewis \n\n\n\n\n12.15 – 1.00 \n\n\nAdvancing Care Across the Cancer Journey \n\n\nFountain Centre & Penny Brohn UK \n\n\n\n\n1.15 – 2.15 \n\n\nLUNCH \n\n\n\n\n\n2.15 – 3.00 \n\n\nUpdate from the Homeopathy Special Interest Group for the Society of Integrative Oncology including results from the Delphi Process  \n\n\nDr Jean-Lionel Bagot & Professor Massimo Bonucci \n\n\n\n\n3.00 – 3.45 \n\n\nNutrition and Dietetics: Creating the bridge in Integrative Oncology \n\n\nKirsten Chick and Meredy Birdi \nBSIO Special Interest Group in Nutrition and Dietetics TBC \n\n\n\n\n3.45 – 4.15 \n\n\nBREAK \n\n\n\n\n\n4.15 – 5.00 \n\n\nMistletoe Therapy in Oncology Symptom Support \n\n\nDr Simon van Lieshout \n\n\n\n\n5.00 – 5.45 \n\n\nFasting in cancer \n\n\nProfessor Valter Longo TBC \n\n\n\n\n5.45 – 6.00 \n\n\nNCIM Diploma in Integrative Healthcare Graduation Ceremoney \n\n\n\n\n\n6.30 – 7.00 \n\n\nNetworking drinks and evening meal with BSIO
URL:https://ncim.org.uk/event/oncology-symptom-support-2
LOCATION:Bristol
CATEGORIES:Conference,Education Event,Wellbeing Event
ATTACH;FMTTYPE=image/png:https://ncim.org.uk/wp-content/uploads/2025/01/Integrative-Oncology-1.png
END:VEVENT
END:VCALENDAR