BEGIN:VCALENDAR
VERSION:2.0
PRODID:-//NCIM - National Centre for Integrative Medicine - ECPv6.15.20//NONSGML v1.0//EN
CALSCALE:GREGORIAN
METHOD:PUBLISH
X-ORIGINAL-URL:https://ncim.org.uk
X-WR-CALDESC:Events for NCIM - National Centre for Integrative Medicine
REFRESH-INTERVAL;VALUE=DURATION:PT1H
X-Robots-Tag:noindex
X-PUBLISHED-TTL:PT1H
BEGIN:VTIMEZONE
TZID:Europe/London
BEGIN:DAYLIGHT
TZOFFSETFROM:+0000
TZOFFSETTO:+0100
TZNAME:BST
DTSTART:20240331T010000
END:DAYLIGHT
BEGIN:STANDARD
TZOFFSETFROM:+0100
TZOFFSETTO:+0000
TZNAME:GMT
DTSTART:20241027T010000
END:STANDARD
BEGIN:DAYLIGHT
TZOFFSETFROM:+0000
TZOFFSETTO:+0100
TZNAME:BST
DTSTART:20250330T010000
END:DAYLIGHT
BEGIN:STANDARD
TZOFFSETFROM:+0100
TZOFFSETTO:+0000
TZNAME:GMT
DTSTART:20251026T010000
END:STANDARD
BEGIN:DAYLIGHT
TZOFFSETFROM:+0000
TZOFFSETTO:+0100
TZNAME:BST
DTSTART:20260329T010000
END:DAYLIGHT
BEGIN:STANDARD
TZOFFSETFROM:+0100
TZOFFSETTO:+0000
TZNAME:GMT
DTSTART:20261025T010000
END:STANDARD
END:VTIMEZONE
BEGIN:VEVENT
DTSTART;TZID=Europe/London:20251029T180000
DTEND;TZID=Europe/London:20251029T190000
DTSTAMP:20260423T133249
CREATED:20250909T112845Z
LAST-MODIFIED:20250926T084332Z
UID:44107-1761760800-1761764400@ncim.org.uk
SUMMARY:NCIM Webinar: Conference Summary - Testing in Integrative Healthcare
DESCRIPTION:NCIM Conference Summary:\nTesting in Integrative Healthcare\nFREE NCIM Webinar\n			\n			\n				\n				\n				\n				\n			\n				\n				\n				\n				\n				\n				\n				\n				\n				\n				\n				Details\nVenue: OnlineDate: Wednesday 29 October 2025\n6-7 pmCost: FREE!\nAny questions? Please email enquiries@ncim.org.uk \n			\n			\n				\n				\n				\n				\n				\n				\n				\n				\n				\n				Who is this webinar for?\n\nIndividuals interested in learning about integrative approaches to their health\nHealthcare professionals\, researchers and students wanting to learn more about evidence-based integrative approaches to healthcare\n\n			\n			\n				\n				\n				\n				\n				\n				\n				\n				\n				\n				Reserve your free place\n			\n				BOOK NOW\n			\n			\n				\n				\n				\n				\n			\n				\n				\n				\n				\n				\n				\n			\n				\n				\n				\n				\n				\n				\n				\n				\n				\n				About the webinar\n			\n				\n				\n				\n				\n				In this webinar Dr Elizabeth Thompson will summarise the key take-aways from the NCIM Autumn conference\, Testing in Integrative Healthcare: The Ethics of Knowledge. \n  \n  \n  \n  \n			\n			\n				\n				\n				\n				\n			\n				\n				\n				\n				\n				\n				\n				\n				\n				\n				\n				You’ll receive the Zoom link by email the day before the webinar.\nYou can still register on the day of the webinar\, however registrations made after 5pm may not be processed in time.   \nThe webinar is recorded and uploaded to our NCIM Membership site within one week.
URL:https://ncim.org.uk/event/conference-summary-testing
CATEGORIES:Education Event,Featured Homepage 2,Free Monthly Webinar,Wellbeing Event
ATTACH;FMTTYPE=image/png:https://ncim.org.uk/wp-content/uploads/2025/02/Testing.png
END:VEVENT
END:VCALENDAR