BEGIN:VCALENDAR
VERSION:2.0
PRODID:-//NCIM - National Centre for Integrative Medicine - ECPv6.15.20//NONSGML v1.0//EN
CALSCALE:GREGORIAN
METHOD:PUBLISH
X-WR-CALNAME:NCIM - National Centre for Integrative Medicine
X-ORIGINAL-URL:https://ncim.org.uk
X-WR-CALDESC:Events for NCIM - National Centre for Integrative Medicine
REFRESH-INTERVAL;VALUE=DURATION:PT1H
X-Robots-Tag:noindex
X-PUBLISHED-TTL:PT1H
BEGIN:VTIMEZONE
TZID:Europe/London
BEGIN:DAYLIGHT
TZOFFSETFROM:+0000
TZOFFSETTO:+0100
TZNAME:BST
DTSTART:20240331T010000
END:DAYLIGHT
BEGIN:STANDARD
TZOFFSETFROM:+0100
TZOFFSETTO:+0000
TZNAME:GMT
DTSTART:20241027T010000
END:STANDARD
BEGIN:DAYLIGHT
TZOFFSETFROM:+0000
TZOFFSETTO:+0100
TZNAME:BST
DTSTART:20250330T010000
END:DAYLIGHT
BEGIN:STANDARD
TZOFFSETFROM:+0100
TZOFFSETTO:+0000
TZNAME:GMT
DTSTART:20251026T010000
END:STANDARD
BEGIN:DAYLIGHT
TZOFFSETFROM:+0000
TZOFFSETTO:+0100
TZNAME:BST
DTSTART:20260329T010000
END:DAYLIGHT
BEGIN:STANDARD
TZOFFSETFROM:+0100
TZOFFSETTO:+0000
TZNAME:GMT
DTSTART:20261025T010000
END:STANDARD
END:VTIMEZONE
BEGIN:VEVENT
DTSTART;TZID=Europe/London:20250715T190000
DTEND;TZID=Europe/London:20250715T200000
DTSTAMP:20260423T212253
CREATED:20250218T155957Z
LAST-MODIFIED:20250529T101309Z
UID:42276-1752606000-1752609600@ncim.org.uk
SUMMARY:Open Day: Level 7 Diploma in Integrative Healthcare
DESCRIPTION:Open Day: Level 7 Diploma in Integrative Healthcare\nOnline information session\n			\n			\n				\n				\n				\n				\n			\n				\n				\n				\n				\n				\n				\n			\n				\n				\n				\n				\n				\n				\n				\n				\n				\n				\n			\n				\n				\n				\n				\n				Are you a healthcare provider interested in studying with us? \nJoin us for one of our online open days to find out more about the Level 7 Diploma in Integrative Healthcare\, meet Dr Elizabeth Thompson and the education faculty who introduce the programme and answer any questions you might have. \nOpen day dates: \n\nTuesday 15th July – 7 – 8pm\n\n  \n  \n			\n			\n				\n				\n				\n				\n			\n				\n				\n				\n				\n				\n				\n				BOOK AN OPEN DAY
URL:https://ncim.org.uk/event/open-day-diploma-4
CATEGORIES:Education Event,Wellbeing Event
ATTACH;FMTTYPE=image/png:https://ncim.org.uk/wp-content/uploads/2023/05/Diploma-Open-Evening-2.png
END:VEVENT
END:VCALENDAR