BEGIN:VCALENDAR
VERSION:2.0
PRODID:-//NCIM - National Centre for Integrative Medicine - ECPv6.15.20//NONSGML v1.0//EN
CALSCALE:GREGORIAN
METHOD:PUBLISH
X-ORIGINAL-URL:https://ncim.org.uk
X-WR-CALDESC:Events for NCIM - National Centre for Integrative Medicine
REFRESH-INTERVAL;VALUE=DURATION:PT1H
X-Robots-Tag:noindex
X-PUBLISHED-TTL:PT1H
BEGIN:VTIMEZONE
TZID:Europe/London
BEGIN:DAYLIGHT
TZOFFSETFROM:+0000
TZOFFSETTO:+0100
TZNAME:BST
DTSTART:20250330T010000
END:DAYLIGHT
BEGIN:STANDARD
TZOFFSETFROM:+0100
TZOFFSETTO:+0000
TZNAME:GMT
DTSTART:20251026T010000
END:STANDARD
BEGIN:DAYLIGHT
TZOFFSETFROM:+0000
TZOFFSETTO:+0100
TZNAME:BST
DTSTART:20260329T010000
END:DAYLIGHT
BEGIN:STANDARD
TZOFFSETFROM:+0100
TZOFFSETTO:+0000
TZNAME:GMT
DTSTART:20261025T010000
END:STANDARD
BEGIN:DAYLIGHT
TZOFFSETFROM:+0000
TZOFFSETTO:+0100
TZNAME:BST
DTSTART:20270328T010000
END:DAYLIGHT
BEGIN:STANDARD
TZOFFSETFROM:+0100
TZOFFSETTO:+0000
TZNAME:GMT
DTSTART:20271031T010000
END:STANDARD
END:VTIMEZONE
BEGIN:VEVENT
DTSTART;TZID=Europe/London:20260624T180000
DTEND;TZID=Europe/London:20260624T190000
DTSTAMP:20260420T063401
CREATED:20260401T152351Z
LAST-MODIFIED:20260410T091443Z
UID:46102-1782324000-1782327600@ncim.org.uk
SUMMARY:FREE Webinar: Breath as Medicine: Regulating the Nervous System from Within
DESCRIPTION:Breath as Medicine: \nRegulating the Nervous System from Within\nFREE NCIM Webinar\n			\n			\n				\n				\n				\n				\n			\n				\n				\n				\n				\n				\n				\n			\n				\n				\n				\n				\n			\n				\n				\n				\n				\n				\n				\n			\n				\n				\n				\n				\n			\n				\n				\n				\n				\n				\n				\n			\n				\n				\n				\n				\n				\n				\n				\n				\n				\n				Wednesday 24 June 2026\n6 – 7 pm\nLive online\, recording available in the NCIM Membership\n			\n				\n				\n				\n				\n				Join NCIM’s Dr Erica McNabb\, Integrative Medicine Doctor and GP with a special interest in Mind-Body Medicine\, for this interactive webinar taking a deep-dive into breathwork. \n \nBlending science with embodied wisdom\, this session will explore how breathwork supports nervous system balance. We will learn about HRV (Heart Rate Variability)\, conscious connected breathing\, and accessible techniques to cultivate calm\, clarity\, and resilience. \n\nBiography \nDr Erica McNabb is an NHS GP with special interests in Mind–Body medicine and post-traumatic recovery. Uniquely positioned through her personal and professional journey as patient\, doctor\, and healer\, she brings a deeply compassionate\, integrative perspective to her work. This lived experience gives her rare insight into the emotional and physical dimensions of healing and a profound understanding of how illness affects every part of a person’s life.  \n\n			\n				Register here\n			\n			\n				\n				\n				\n				\n			\n				\n				\n				\n				\n				\n				\n			\n				\n				\n				\n				\n			\n				\n				\n				\n				\n				\n				\n				\n				\n				\n				\n				About the Speaker\n			\n			\n				\n				\n				\n				\n			\n				\n				\n				\n				\n				\n				\n				\n				\n				\n				\n				 \n				\n					Dr Erica McNabb\n					Integrative Medicine Doctor \n					\n					\n				\n			\n			\n				\n				\n				\n				\n				\n			\n				\n				\n				\n				\n				\n			\n				\n				\n				\n				\n			\n				\n				\n				\n				\n				\n				\n			\n				\n				\n				\n				\n			\n				\n				\n				\n				\n				\n				\n				\n				\n				\n				\n				You’ll receive the Zoom link by email the day before the webinar.\nYou can still register on the day of the webinar\, however registrations made after 5pm may not be processed in time.   \nThe webinar is recorded and uploaded to our NCIM Membership site within one week.
URL:https://ncim.org.uk/event/breath-as-medicine
LOCATION:Online
CATEGORIES:Education Event,Free Monthly Webinar,Wellbeing Event
ATTACH;FMTTYPE=image/webp:https://ncim.org.uk/wp-content/uploads/2026/03/1.webp
END:VEVENT
END:VCALENDAR