BEGIN:VCALENDAR
VERSION:2.0
PRODID:-//NCIM - National Centre for Integrative Medicine - ECPv6.15.20//NONSGML v1.0//EN
CALSCALE:GREGORIAN
METHOD:PUBLISH
X-ORIGINAL-URL:https://ncim.org.uk
X-WR-CALDESC:Events for NCIM - National Centre for Integrative Medicine
REFRESH-INTERVAL;VALUE=DURATION:PT1H
X-Robots-Tag:noindex
X-PUBLISHED-TTL:PT1H
BEGIN:VTIMEZONE
TZID:Europe/London
BEGIN:DAYLIGHT
TZOFFSETFROM:+0000
TZOFFSETTO:+0100
TZNAME:BST
DTSTART:20250330T010000
END:DAYLIGHT
BEGIN:STANDARD
TZOFFSETFROM:+0100
TZOFFSETTO:+0000
TZNAME:GMT
DTSTART:20251026T010000
END:STANDARD
BEGIN:DAYLIGHT
TZOFFSETFROM:+0000
TZOFFSETTO:+0100
TZNAME:BST
DTSTART:20260329T010000
END:DAYLIGHT
BEGIN:STANDARD
TZOFFSETFROM:+0100
TZOFFSETTO:+0000
TZNAME:GMT
DTSTART:20261025T010000
END:STANDARD
BEGIN:DAYLIGHT
TZOFFSETFROM:+0000
TZOFFSETTO:+0100
TZNAME:BST
DTSTART:20270328T010000
END:DAYLIGHT
BEGIN:STANDARD
TZOFFSETFROM:+0100
TZOFFSETTO:+0000
TZNAME:GMT
DTSTART:20271031T010000
END:STANDARD
END:VTIMEZONE
BEGIN:VEVENT
DTSTART;TZID=Europe/London:20260527T180000
DTEND;TZID=Europe/London:20260527T190000
DTSTAMP:20260419T185716
CREATED:20260216T164945Z
LAST-MODIFIED:20260304T152930Z
UID:45589-1779904800-1779908400@ncim.org.uk
SUMMARY:FREE Webinar: Herbs for Women's Health: Ancient wisdom\, modern practice
DESCRIPTION:Herbs for Women’s Health:\nAncient wisdom\, modern practice\nFREE NCIM Webinar\n			\n			\n				\n				\n				\n				\n			\n				\n				\n				\n				\n				\n				\n			\n				\n				\n				\n				\n			\n				\n				\n				\n				\n				\n				\n			\n				\n				\n				\n				\n				\n				\n				\n				\n				\n				Wednesday 27 May 2026\n6 – 7pm\nLive online\, recording available in the NCIM Membership\n			\n				\n				\n				\n				\n				Join Claire Goulding founder of Learn Botanics\, as well as an NCIM Associate Therapist\, for an empowering introduction to herbal medicine tailored specifically for women’s health. Drawing on traditional plant knowledge backed by modern clinical understanding\, Claire will explore how medicinal herbs can support hormonal balance\, reproductive health\, and overall wellbeing. \nWhy herbs for women’s health? \n\nWhether you’re curious about natural approaches to common women’s health concerns or seeking to understand the root causes of symptoms\, this webinar offers practical insights into how herbal remedies can complement your wellness journey. Claire brings a holistic\, personalised approach that addresses why women’s health issues are often overlooked in conventional medicine\, and how herbalism offers a powerful alternative rooted in both tradition and science. \n\n			\n				Register here\n			\n			\n				\n				\n				\n				\n			\n				\n				\n				\n				\n				\n				\n			\n				\n				\n				\n				\n			\n				\n				\n				\n				\n				\n				\n				\n				\n				\n				\n				About the Speaker\n			\n			\n				\n				\n				\n				\n			\n				\n				\n				\n				\n				\n				\n				\n				\n				\n				\n				\n				\n					Claire Goulding\n					Western Medical Herbalist \n					\n					\n				\n			\n			\n				\n				\n				\n				\n				\n			\n				\n				\n				\n				\n				\n			\n				\n				\n				\n				\n			\n				\n				\n				\n				\n				\n				\n			\n				\n				\n				\n				\n			\n				\n				\n				\n				\n				\n				\n				\n				\n				\n				\n				You’ll receive the Zoom link by email the day before the webinar.\nYou can still register on the day of the webinar\, however registrations made after 5pm may not be processed in time.   \nThe webinar is recorded and uploaded to our NCIM Membership site within one week.
URL:https://ncim.org.uk/event/webinar-herbs-for-womens-health
LOCATION:Bristol
CATEGORIES:Education Event,Free Monthly Webinar,Wellbeing Event
ATTACH;FMTTYPE=image/png:https://ncim.org.uk/wp-content/uploads/2025/02/Herbal-teas.png
END:VEVENT
END:VCALENDAR